BEGIN:VCALENDAR
VERSION:2.0
PRODID:-//SZPV - ECPv5.9.0//NONSGML v1.0//EN
CALSCALE:GREGORIAN
METHOD:PUBLISH
X-WR-CALNAME:SZPV
X-ORIGINAL-URL:https://www.szpv.si
X-WR-CALDESC:Events for SZPV
BEGIN:VTIMEZONE
TZID:Europe/Helsinki
BEGIN:DAYLIGHT
TZOFFSETFROM:+0200
TZOFFSETTO:+0300
TZNAME:EEST
DTSTART:20250330T010000
END:DAYLIGHT
BEGIN:STANDARD
TZOFFSETFROM:+0300
TZOFFSETTO:+0200
TZNAME:EET
DTSTART:20251026T010000
END:STANDARD
END:VTIMEZONE
BEGIN:VEVENT
DTSTART;TZID=Europe/Helsinki:20251015T083000
DTEND;TZID=Europe/Helsinki:20251015T153000
DTSTAMP:20260421T150935
CREATED:20250911T061619Z
LAST-MODIFIED:20251107T075046Z
UID:7022-1760517000-1760542200@www.szpv.si
SUMMARY:Strokovni seminar - Varnost v industriji: odziv\, pripravljenost in izzivi
DESCRIPTION:PRIJAVA \nSlovensko združenje za požarno varstvo (SZPV) v sodelovanju z Združenjem kemijske industrije (ZKI) pri GZS vas vabi na strokovni seminar\, posvečen izboljševanju varnosti v industriji. Program vključuje dejanske primere iz prakse\, predstavitev zakonodajnih zahtev\, tehničnih rešitev ter organizacijskih pristopov. Seminar je namenjen vsem\, ki so vključeni v zagotavljanje varnosti v industrijskih obratih – varnostnim menedžerjem\, strokovnjakom za požarno in eksplozijsko varnost\, predstavnikom industrije\, gasilcem ter inšpekcijskim službam. \nProgram seminarja \n08:30 – 09:00 Registracija udeležencev \n09:00 – 09:10 Uvodni nagovor predstavnikov SZPV\, ZKI in URSZR (še čakamo potrditev) \n     1. del: Odziv na industrijske nesreče in organizacija varnosti \n09:10 – 09:35 Požar v industrijski coni Trata – izkušnje iz prakse; Tomaž Ažbe\, Gasilska brigada Ljubljana \n09:35 – 10:00 Eksplozijska zaščita in požarna varnost v industriji; Gregor Kušar\, Slovensko združenje za požarno varstvo \n10:00 – 10:25 Komisija za industrijsko gasilstvo – Predstavitev dobrih praks in smernice za prihodnost; Miro Brezovnik\, Gasilska zveza Slovenije \n10:25 – 10:50 Odmor za kavo in mreženje \n10:50 – 11:15 Pomen in vloga varnostnega menedžerja – praktične izkušnje (pedavatelj bo objavljen naknadno) \n11:15 – 11:45 Panelna razprava I: Kako izboljšati odziv podjetij na nesreče? Moderira: ddr. Aleš Jug – kratko panelno predavanje – tveganja\, ki izhajajo iz namestive sončnih elektrarn Sodelujejo: predavatelji prvega sklopa in predstavniki industrije \n11:45 – 12:30 Odmor za kosilo   \n     2. del: Pripravljenost\, zakonske obveznosti in zagotavljanje odpornosti v industriji \n12:30 – 12:55 Zakonska podlaga in inšpekcijski nadzori v praksi; mag. Romana Lah\, Inšpektorat RS za varstvo pred naravnimi in drugimi nesrečami \n12:55 – 13:20 Izzivi in rešitve pri gašenju litij-ionskih baterij; Matej Škerbic\, Bonpet d.o.o. \n13:20 – 13:45 Pripravljenost podjetja za nudenje nujne medicinske pomoči (NMP); Žiga Metelko\, mag. zdr. nege \n13:45 – 14:10 Improving Process Safety – The Role of the UK Process Safety Forum (v angleščini – na daljavo); Phil Scott\, Chair\, Process Safety Forum (UK) \n14:10 – 14:35 Pozitiven vpliv na varnost skozi procese zagotavljanja nemotenega poslovanja; ddr. Aleš Jug\, ZAG \n14:35 – 15:05 Panelna razprava II: Kako okrepiti varnostno kulturo in odpornost podjetij? Moderira: Tomaž Kordiš – kratko panelno predavanje – problematika vzpostavitve industrijskih gasilskih enot Sodelujejo: predavatelji drugega sklopa in predstavniki podjetij \n15:05 – 15:20 Zaključek seminarja \n  \nKotizacija za posameznega udeleženca seminarja znaša 149\,00 Eur + DDV. \nPooblaščeni in nadzorni inženirji za udeležbo na strokovnem usposabljanju pridobijo 1 kreditno točko iz izbirnih vsebin skladno s Splošnim aktom o stalnem poklicnem usposabljanju pooblaščenih inženirjev. \nČlanom SZPV\, ZKI\, IZS\, ZAPS in gasilskih organizacij pri prijavi nudimo 10% popust. V primeru prijave dveh ali več udeležencev iz iste organizacije vam priznamo dodatni 5% popust na vse kotizacije. \nPrijave zbiramo do 10. oktobra 2025
URL:https://www.szpv.si/dogodki/strokovni-seminar-varnost-v-industriji-odziv-pripravljenost-in-izzivi/
END:VEVENT
END:VCALENDAR